BEGIN:VCALENDAR
VERSION:2.0
PRODID:-//Redstone Gateway //NONSGML Events //EN
X-MS-OLK-FORCEINSPECTOROPEN:TRUE
BEGIN:VTIMEZONE
TZID:Central Standard Time
BEGIN:STANDARD
DTSTART:16011104T020000
RRULE:FREQ=YEARLY;BYDAY=1SU;BYMONTH=11
TZOFFSETFROM:-0500
TZOFFSETTO:-0600
END:STANDARD
BEGIN:DAYLIGHT
DTSTART:16010311T020000
RRULE:FREQ=YEARLY;BYDAY=2SU;BYMONTH=3
TZOFFSETFROM:-0600
TZOFFSETTO:-0500
END:DAYLIGHT
END:VTIMEZONE
BEGIN:VEVENT
CLASS:PUBLIC
CREATED:20230424T185203Z
UID:869
DTEND;TZID="Central Standard Time":20230504T153000
DTSTAMP:20260423T092055Z
DTSTART;TZID="Central Standard Time":20230504T133000
LOCATION:Market Street Pavillion
DESCRIPTION:Join Ice Works Shaved Ice for this month’s First Thursday vendor. The first 25 attendees get a free item! When: Thursday, May 4th, 2023 | 1:30pm – 2:30pm Where: Market Street Pavillion
SUMMARY:First Thursday: Ice Works Shaved Ice
ORGANIZER:Redstone Gateway
URL;VALUE=URI:https://redstonegateway.com/first-thursday-ice-works-shaved-ice/
TRANSP:OPAQUE
BEGIN:VALARM
ACTION:DISPLAY
TRIGGER:-PT15M
DESCRIPTION:Reminder for First Thursday: Ice Works Shaved Ice
END:VALARM
END:VEVENT
END:VCALENDAR
