BEGIN:VCALENDAR
VERSION:2.0
PRODID:-//Redstone Gateway //NONSGML Events //EN
X-MS-OLK-FORCEINSPECTOROPEN:TRUE
BEGIN:VTIMEZONE
TZID:Central Standard Time
BEGIN:STANDARD
DTSTART:16011104T020000
RRULE:FREQ=YEARLY;BYDAY=1SU;BYMONTH=11
TZOFFSETFROM:-0500
TZOFFSETTO:-0600
END:STANDARD
BEGIN:DAYLIGHT
DTSTART:16010311T020000
RRULE:FREQ=YEARLY;BYDAY=2SU;BYMONTH=3
TZOFFSETFROM:-0600
TZOFFSETTO:-0500
END:DAYLIGHT
END:VTIMEZONE
BEGIN:VEVENT
CLASS:PUBLIC
CREATED:20240422T180201Z
UID:1107
DTEND;TZID="Central Standard Time":20240503T133000
DTSTAMP:20260420T091035Z
DTSTART;TZID="Central Standard Time":20240503T110000
LOCATION:In front of Fiero on the East Patio (2100 Rideout Road)
DESCRIPTION:Join us for a fiesta on the patio—featuring lunch served by Fiero Mexican Grill! Lunch is free with a donation (of any amount) to the Food Bank of North Alabama. When: Friday, May 3rd |  11:00 am &#8211; 1:30 pm Where: In front of Fiero on the East Patio (2100 Rideout Road)
SUMMARY:Cinco de Mayo Fiesta
ORGANIZER:Redstone Gateway
URL;VALUE=URI:https://redstonegateway.com/cinco-de-mayo-fiesta-2/
TRANSP:OPAQUE
BEGIN:VALARM
ACTION:DISPLAY
TRIGGER:-PT15M
DESCRIPTION:Reminder for Cinco de Mayo Fiesta
END:VALARM
END:VEVENT
END:VCALENDAR
