BEGIN:VCALENDAR
VERSION:2.0
PRODID:-//Redstone Gateway //NONSGML Events //EN
CALSCALE:GREGORIAN
X-WR-CALNAME:Redstone Gateway
BEGIN:VEVENT
CREATED:20230725T125308Z
UID:929
DTEND;TZID=America/Chicago:20230803T133000
DTSTART;TZID=America/Chicago:20230803T113000
DTSTAMP:20260421T131132Z
LOCATION:Market Street Pavillion
DESCRIPTION:Come out and enjoy Badd Newz BBQ as this month&#8217;s first Thursday vendor. The first 20 people to attend receive a free item from the menu. When: Thursday, August 3rd, 2023 | 11:30am – 1:30pm View Menu Here Where: Market Street Pavilion
SUMMARY:First Thursdays: Badd Newz BBQ
ORGANIZER:Redstone Gateway
URL;VALUE=URI:https://redstonegateway.com/first-thursdays-badd-newz-bbq/
TRANSP:OPAQUE
BEGIN:VALARM
ACTION:DISPLAY
TRIGGER;TZID=America/Chicago:20230803T113000
DESCRIPTION:Reminder for First Thursdays: Badd Newz BBQ
END:VALARM
END:VEVENT
END:VCALENDAR
