BEGIN:VCALENDAR
VERSION:2.0
PRODID:-//Redstone Gateway //NONSGML Events //EN
CALSCALE:GREGORIAN
X-WR-CALNAME:Redstone Gateway
BEGIN:VEVENT
CREATED:20230525T161239Z
UID:877
DTEND;TZID=America/Chicago:20230601T133000
DTSTART;TZID=America/Chicago:20230601T113000
DTSTAMP:20260421T131550Z
LOCATION:Market Street Pavillion
DESCRIPTION:Join Get Loaded and SnoBiz as this month’s First Thursday vendors! The first 20 attendees get a free item from their vendor of choice. When: Thursday, June 1st, 2023 | 11:30am – 1:30pm Where: Market Street Pavillion
SUMMARY:First Thursday: Get Loaded and SnoBiz
ORGANIZER:Redstone Gateway
URL;VALUE=URI:https://redstonegateway.com/first-thursday-get-loaded-and-snobiz/
TRANSP:OPAQUE
BEGIN:VALARM
ACTION:DISPLAY
TRIGGER;TZID=America/Chicago:20230601T113000
DESCRIPTION:Reminder for First Thursday: Get Loaded and SnoBiz
END:VALARM
END:VEVENT
END:VCALENDAR
