BEGIN:VCALENDAR
VERSION:2.0
PRODID:-//Redstone Gateway //NONSGML Events //EN
CALSCALE:GREGORIAN
X-WR-CALNAME:Redstone Gateway
BEGIN:VEVENT
CREATED:20230424T185412Z
UID:871
DTEND;TZID=America/Chicago:20230505T133000
DTSTART;TZID=America/Chicago:20230505T110000
DTSTAMP:20260425T195318Z
LOCATION:South Patio of Rocket City Tavern (2100 Rideout Road)
DESCRIPTION:Friday, May 5th Join us for a fiesta on the patio—featuring lunch served by Fiero Mexican Grill! Lunch is free with a donation (of any amount) to Food Bank of North Alabama. When: 11:00am–1:30pm Where: South Patio of Rocket City Tavern (2100 Rideout Road)
SUMMARY:Cinco de Mayo FIESTA – May 5th 2023
ORGANIZER:Redstone Gateway
URL;VALUE=URI:https://redstonegateway.com/cinco-de-mayo-fiesta/
TRANSP:OPAQUE
BEGIN:VALARM
ACTION:DISPLAY
TRIGGER;TZID=America/Chicago:20230505T110000
DESCRIPTION:Reminder for Cinco de Mayo FIESTA &#8211\; May 5th 2023
END:VALARM
END:VEVENT
END:VCALENDAR
