BEGIN:VCALENDAR
VERSION:2.0
PRODID:-//Redstone Gateway //NONSGML Events //EN
CALSCALE:GREGORIAN
X-WR-CALNAME:Redstone Gateway
BEGIN:VEVENT
CREATED:20230328T203033Z
UID:860
DTEND;TZID=America/Chicago:20230406T153000
DTSTART;TZID=America/Chicago:20230406T130000
DTSTAMP:20260420T105219Z
LOCATION:Market Street Pavillion
DESCRIPTION:Hop on over for some Easter fun! Explore around the lake for eggs containing gift cards to our local eateries. When: Thursday, April 6th | 1:00PM Where: Redstone Gateway Lake Path Enjoy Piper &amp; Leaf Tea Co. + The FryBox! The first 20 people will receive a red ticket for one free item from their<a class="excerpt-read-more" href="https://redstonegateway.com/egg-hunt-first-thursday/" title="ReadEgg Hunt + First Thursday">... Read more &raquo;</a>
SUMMARY:Egg Hunt + First Thursday
ORGANIZER:Redstone Gateway
URL;VALUE=URI:https://redstonegateway.com/egg-hunt-first-thursday/
TRANSP:OPAQUE
BEGIN:VALARM
ACTION:DISPLAY
TRIGGER;TZID=America/Chicago:20230406T130000
DESCRIPTION:Reminder for Egg Hunt + First Thursday
END:VALARM
END:VEVENT
END:VCALENDAR
