BEGIN:VCALENDAR
VERSION:2.0
PRODID:-//Redstone Gateway //NONSGML Events //EN
CALSCALE:GREGORIAN
X-WR-CALNAME:Redstone Gateway
BEGIN:VEVENT
CREATED:20240325T140933Z
UID:1088
DTEND;TZID=America/Chicago:20240404T133000
DTSTART;TZID=America/Chicago:20240404T113000
DTSTAMP:20260420T092709Z
LOCATION:Market Street Pavillion 
DESCRIPTION:Join Golden Years Ice Cream Parlor and Diner as this month’s First Thursday vendors! They will be serving Ice cream and their gourmet hotdogs. The first 25 attendees get a free menu item of their choice. When: Thursday, April 4th, 2024 | 11:30am – 1:30pm Where: Market Street Pavillion
SUMMARY:First Thursday: Golden Years Ice Cream Parlor and Diner
ORGANIZER:Redstone Gateway
URL;VALUE=URI:https://redstonegateway.com/first-thursday-golden-years-ice-cream-parlor-and-diner/
TRANSP:OPAQUE
BEGIN:VALARM
ACTION:DISPLAY
TRIGGER;TZID=America/Chicago:20240404T113000
DESCRIPTION:Reminder for First Thursday: Golden Years Ice Cream Parlor and Diner
END:VALARM
END:VEVENT
END:VCALENDAR
